BEGIN:VCALENDAR
VERSION:2.0
PRODID:-//Squarespace Inc/Squarespace 6//v6//EN
BEGIN:VEVENT
UID:57463f56d51cd473706a59d8@squarespace.com
DTSTAMP:20160526T002549Z
DTSTART:20160528T214500Z
DTEND:20160528T234500Z
SUMMARY:Revive + Refuel by HEALTHYSELF & Bowl and Arrow
GEO:-36.859128;174.751655
LOCATION:EastWest Yoga\, 26 Ponsonby Road\, Auckland\, Auckland\, 1011\, Ne
 w Zealand
END:VEVENT
END:VCALENDAR
