BEGIN:VCALENDAR
VERSION:2.0
PRODID:-//Squarespace Inc/Squarespace 6//v6//EN
BEGIN:VEVENT
UID:5746415507eaa05bea38d20c@squarespace.com
DTSTAMP:20160526T002852Z
DTSTART:20160610T181500Z
DTEND:20160611T041500Z
SUMMARY:AndFit 3's Crossfit Competition
GEO:-36.86702;174.760752
LOCATION:AndFit Crossfit\, 8 Shaddock Street\, Auckland\, Auckland\, 1021\, 
 New Zealand
END:VEVENT
END:VCALENDAR
