BEGIN:VCALENDAR
VERSION:2.0
PRODID:-//Squarespace Inc/Squarespace 6//v6//EN
BEGIN:VEVENT
UID:57463fff044262d3a7710318@squarespace.com
DTSTAMP:20160526T003019Z
DTSTART:20160617T181500Z
DTEND:20160618T041500Z
SUMMARY:Wild West Crossfit Competition
GEO:-36.86842;174.760387
LOCATION:CrossFit West Auckland\, 101 Mount Eden Road\, Auckland\, Auckland
 \, 1024\, New Zealand
END:VEVENT
END:VCALENDAR
