BEGIN:VCALENDAR
VERSION:2.0
PRODID:-//Squarespace Inc/Squarespace 6//v6//EN
BEGIN:VEVENT
UID:57689d359de4bb4e6f93a1cb@squarespace.com
DTSTAMP:20160621T015800Z
DTSTART:20160624T191500Z
DTEND:20160624T203000Z
SUMMARY:Om Yoga + Bowl and Arrow
GEO:-36.886785;174.844828
LOCATION:Om Yoga\, 40 Stonefields Avenue\, Auckland\, Auckland\, 1072\, New 
 Zealand
END:VEVENT
END:VCALENDAR
