BEGIN:VCALENDAR
VERSION:2.0
PRODID:-//Squarespace Inc/Squarespace 6//v6//EN
BEGIN:VEVENT
UID:577327b0b3db2b0bd37141ce@squarespace.com
DTSTAMP:20160629T015020Z
DTSTART:20160630T201500Z
DTEND:20160630T231500Z
SUMMARY:Botany Town Weave Through Winter Week
END:VEVENT
END:VCALENDAR
