BEGIN:VCALENDAR
VERSION:2.0
PRODID:-//Squarespace Inc/Squarespace 6//v6//EN
BEGIN:VEVENT
UID:59f0f1c2a803bb5ef3ba783e@squarespace.com
DTSTAMP:20171025T203157Z
DTSTART:20171025T203000Z
DTEND:20171025T213000Z
SUMMARY:Boxing & Bowls with Dwayne Rowsell
GEO:-36.851228;174.78273
LOCATION:The Common\, 1 Faraday Street\, Auckland\, Auckland\, 1052\, New Z
 ealand
END:VEVENT
END:VCALENDAR
