BEGIN:VCALENDAR
VERSION:2.0
PRODID:-//Squarespace Inc/Squarespace 6//v6//EN
BEGIN:VEVENT
UID:5a29f61ee4966b814be97c26@squarespace.com
DTSTAMP:20171208T021840Z
DTSTART:20171221T163000Z
DTEND:20171221T173000Z
SUMMARY:Christmas Yoga @ Orakei
GEO:-36.86328;174.810188
LOCATION:Bowl and Arrow\, 228 Orakei Road\, Auckland\, Auckland\, 1071\, Ne
 w Zealand
END:VEVENT
END:VCALENDAR
