BEGIN:VCALENDAR
VERSION:2.0
PRODID:-//Squarespace Inc/Squarespace 6//v6//EN
BEGIN:VEVENT
UID:5a27302df9619a7a1a419d74@squarespace.com
DTSTAMP:20171208T021648Z
DTSTART:20171215T181500Z
DTEND:20171215T191500Z
SUMMARY:Boxing & Bowls
GEO:-36.851228;174.78273
LOCATION:Bowl and Arrow\, 1 Faraday Street\, Auckland\, Auckland\, 1052\, N
 ew Zealand
END:VEVENT
END:VCALENDAR
