BEGIN:VCALENDAR
VERSION:2.0
PRODID:-//Squarespace Inc/Squarespace 6//v6//EN
BEGIN:VEVENT
UID:58acfa6f9de4bb477637047c@squarespace.com
DTSTAMP:20170301T200843Z
DTSTART:20170307T161500Z
DTEND:20170307T171500Z
SUMMARY:Warrior Wednesday
GEO:-36.86328;174.810188
LOCATION:Bowl and Arrow\, 228 Orakei Road\, Auckland\, Auckland\, 1071\, Ne
 w Zealand
END:VEVENT
END:VCALENDAR
