BEGIN:VCALENDAR
VERSION:2.0
PRODID:-//Squarespace Inc/Squarespace 6//v6//EN
BEGIN:VEVENT
UID:596597112e69cff6d94da4e6@squarespace.com
DTSTAMP:20170712T033635Z
DTSTART:20170725T173000Z
DTEND:20170725T183000Z
SUMMARY:A Morning For Your Soul: Live Music\, Yoga & Smoothie Bowls
GEO:-36.86328;174.810188
LOCATION:Bowl and Arrow\, 228 Orakei Road\, Auckland\, Auckland\, 1071\, Ne
 w Zealand
END:VEVENT
END:VCALENDAR
