BEGIN:VCALENDAR
VERSION:2.0
PRODID:-//Squarespace Inc/Squarespace 6//v6//EN
BEGIN:VEVENT
UID:598ce51a17bffc0a9a378e3f@squarespace.com
DTSTAMP:20170810T230150Z
DTSTART:20170824T171500Z
DTEND:20170824T181500Z
SUMMARY:Acoustic Asanas: Yoga Breakfast
GEO:-36.86328;174.810188
LOCATION:Bowl and Arrow\, 228 Orakei Road\, Auckland\, Auckland\, 1071\, Ne
 w Zealand
END:VEVENT
END:VCALENDAR
