BEGIN:VCALENDAR
VERSION:2.0
PRODID:-//Squarespace Inc/Squarespace 6//v6//EN
BEGIN:VEVENT
UID:5bbd905ce4966bea2ac88b77@squarespace.com
DTSTAMP:20181010T054055Z
DTSTART:20181012T173000Z
DTEND:20181012T181500Z
SUMMARY:Yoga For Sweet Louise 
GEO:-36.86328;174.810188
LOCATION:Bowl and Arrow\, 228 Orakei Road\, Auckland\, Auckland\, 1071\, Ne
 w Zealand
END:VEVENT
END:VCALENDAR
