BEGIN:VCALENDAR
VERSION:2.0
PRODID:-//Squarespace Inc/Squarespace 6//v6//EN
BEGIN:VEVENT
UID:5beca9da0e2e72e2221d3339@squarespace.com
DTSTAMP:20181114T230659Z
DTSTART:20181124T174500Z
DTEND:20181124T184500Z
SUMMARY:De-stress and Unwind at Bowl &amp\; Arrow
GEO:-36.86328;174.810188
LOCATION:Bowl and Arrow\, 228 Orakei Road\, Auckland\, Auckland\, 1071\, Ne
 w Zealand
END:VEVENT
END:VCALENDAR
