BEGIN:VCALENDAR
VERSION:2.0
PRODID:-//Squarespace Inc/Squarespace 6//v6//EN
BEGIN:VEVENT
UID:5a7b4d01f9619af05701f981@squarespace.com
DTSTAMP:20180207T190428Z
DTSTART:20180216T191500Z
DTEND:20180216T201500Z
SUMMARY:Barre & Bowls with District Fitness
GEO:-36.851228;174.78273
LOCATION:The Common\, 1 Faraday Street\, Auckland\, Auckland\, 1052\, New Z
 ealand
END:VEVENT
END:VCALENDAR
