BEGIN:VCALENDAR
VERSION:2.0
PRODID:-//Squarespace Inc/Squarespace 6//v6//EN
BEGIN:VEVENT
UID:5ac6c2e0f950b7346fb6b5a9@squarespace.com
DTSTAMP:20180406T004917Z
DTSTART:20180427T201500Z
DTEND:20180427T211500Z
SUMMARY:Barre & Bowl 2.0
GEO:-36.851228;174.78273
LOCATION:THe Common\, 1 Faraday Street\, Auckland\, Auckland\, 1052\, New Z
 ealand
END:VEVENT
END:VCALENDAR
