BEGIN:VCALENDAR
VERSION:2.0
PRODID:-//Squarespace Inc/Squarespace 6//v6//EN
BEGIN:VEVENT
UID:5af14afd0e2e727f41233234@squarespace.com
DTSTAMP:20180510T214804Z
DTSTART:20180517T173000Z
DTEND:20180517T183000Z
SUMMARY:Funky Friday Flow 
GEO:-36.86328;174.810188
LOCATION:Bowl and Arrow\, 228 Orakei Road\, Auckland\, Auckland\, 1071\, Ne
 w Zealand
END:VEVENT
END:VCALENDAR
