BEGIN:VCALENDAR
VERSION:2.0
PRODID:-//Squarespace Inc/Squarespace 6//v6//EN
BEGIN:VEVENT
UID:5af4bd3588251bd8350e3dbd@squarespace.com
DTSTAMP:20180510T214558Z
DTSTART:20180525T184500Z
DTEND:20180525T201500Z
SUMMARY:Pink and Powerful 
GEO:-36.84846;174.763332
LOCATION:Bowl and Arrow\, 1 Faraday Street\, Auckland\, Auckland\, 1052\, N
 ew Zealand
END:VEVENT
END:VCALENDAR
