BEGIN:VCALENDAR
VERSION:2.0
PRODID:-//Squarespace Inc/Squarespace 6//v6//EN
BEGIN:VEVENT
UID:5b2b7eb8f950b7ec244f17d1@squarespace.com
DTSTAMP:20180621T103511Z
DTSTART:20180623T184500Z
DTEND:20180623T194500Z
SUMMARY:Glow from the Inside Out
GEO:-36.86328;174.810188
LOCATION:Bowl and Arrow\, 228 Orakei Road\, Auckland\, Auckland\, 1071\, Ne
 w Zealand
END:VEVENT
END:VCALENDAR
