BEGIN:VCALENDAR
VERSION:2.0
PRODID:-//Squarespace Inc/Squarespace 6//v6//EN
BEGIN:VEVENT
UID:5b369198f950b7af26c8609c@squarespace.com
DTSTAMP:20180629T201300Z
DTSTART:20180714T184500Z
DTEND:20180714T194500Z
SUMMARY:Winter Wellness Energising Yoga
GEO:-36.86328;174.810188
LOCATION:Bowl and Arrow\, 228 Orakei Road\, Auckland\, Auckland\, 1071\, Ne
 w Zealand
END:VEVENT
END:VCALENDAR
