BEGIN:VCALENDAR
VERSION:2.0
PRODID:-//Squarespace Inc/Squarespace 6//v6//EN
BEGIN:VEVENT
UID:5b6cf3a60ebbe8b40554095b@squarespace.com
DTSTAMP:20180810T020944Z
DTSTART:20180818T184500Z
DTEND:20180818T194500Z
SUMMARY:VIVA Pilates @ Bowl and Arrow
END:VEVENT
END:VCALENDAR
