BEGIN:VCALENDAR
VERSION:2.0
PRODID:-//Squarespace Inc/Squarespace 6//v6//EN
BEGIN:VEVENT
UID:5b9993561ae6cfe40edac549@squarespace.com
DTSTAMP:20180912T223301Z
DTSTART:20180929T174500Z
DTEND:20180929T184500Z
SUMMARY:Put a Spring Back in your Step
GEO:-36.86328;174.810188
LOCATION:Bowl and Arrow\, 228 Orakei Road\, Auckland\, Auckland\, 1071\, Ne
 w Zealand
END:VEVENT
END:VCALENDAR
