BEGIN:VCALENDAR
VERSION:2.0
PRODID:-//Squarespace Inc/Squarespace 6//v6//EN
BEGIN:VEVENT
UID:5de4862ae6b0e7013ab8d686@squarespace.com
DTSTAMP:20191202T033711Z
DTSTART:20191211T173000Z
DTEND:20191211T181500Z
SUMMARY:Sun Warrior Flow @ Westfield Newmarket
GEO:-36.87179;174.776609
LOCATION:Bowl and Arrow\, Westfield Newmarket\, 277 Broadway\, Auckland\, N
 ew Zealand
END:VEVENT
END:VCALENDAR
