BEGIN:VCALENDAR
VERSION:2.0
PRODID:-//Squarespace Inc/Squarespace 6//v6//EN
BEGIN:VEVENT
UID:5de486f27199857508bc7727@squarespace.com
DTSTAMP:20191202T033930Z
DTSTART:20191214T174500Z
DTEND:20191214T184500Z
SUMMARY:Sunday Asanas @ Orakei Bay Village
GEO:-36.86328;174.810188
LOCATION:Bowl and Arrow\, 228 Orakei Road\, Auckland\, New Zealand
END:VEVENT
END:VCALENDAR
