BEGIN:VCALENDAR
VERSION:2.0
PRODID:-//Squarespace Inc/Squarespace 6//v6//EN
BEGIN:VEVENT
UID:5c92f66d53450af227827716@squarespace.com
DTSTAMP:20190321T022949Z
DTSTART:20190424T191500Z
DTEND:20190424T201500Z
SUMMARY:For Our Heroes | ANZAC DAY Yoga
GEO:-36.86328;174.810188
LOCATION:Bowl and Arrow\, 228 Orakei Road\, Auckland\, New Zealand
END:VEVENT
END:VCALENDAR
