BEGIN:VCALENDAR
VERSION:2.0
PRODID:-//Squarespace Inc/Squarespace 6//v6//EN
BEGIN:VEVENT
UID:5ccb888e9140b7ce1e9bc05c@squarespace.com
DTSTAMP:20190503T001941Z
DTSTART:20190511T184500Z
DTEND:20190511T194500Z
SUMMARY:PINK RIBBON BREAKFAST | Yoga and Smoothie Bowls
GEO:-36.86328;174.810188
LOCATION:Bowl and Arrow\, 228 Orakei Road\, Auckland\, New Zealand
END:VEVENT
END:VCALENDAR
