BEGIN:VCALENDAR
VERSION:2.0
PRODID:-//Squarespace Inc/Squarespace 6//v6//EN
BEGIN:VEVENT
UID:5d0202ebba53cb00013556af@squarespace.com
DTSTAMP:20190613T081637Z
DTSTART:20190620T180000Z
DTEND:20190620T191500Z
SUMMARY:Lululemon International Day of Yoga
END:VEVENT
END:VCALENDAR
