BEGIN:VCALENDAR
VERSION:2.0
PRODID:-//Squarespace Inc/Squarespace 6//v6//EN
BEGIN:VEVENT
UID:5d0200acbb4f2e00012c3931@squarespace.com
DTSTAMP:20190613T075318Z
DTSTART:20190622T184500Z
DTEND:20190622T194500Z
SUMMARY:Mid Winter Yoga
GEO:-36.86328;174.810188
LOCATION:Bowl and Arrow\, 228 Orakei Road\, Auckland\, New Zealand
END:VEVENT
END:VCALENDAR
