BEGIN:VCALENDAR
VERSION:2.0
PRODID:-//Squarespace Inc/Squarespace 6//v6//EN
BEGIN:VEVENT
UID:5d635cb9d6e6e5000189f259@squarespace.com
DTSTAMP:20190826T041859Z
DTSTART:20190907T184500Z
DTEND:20190907T194500Z
SUMMARY:Invigorating Spring Yoga
GEO:-36.86328;174.810188
LOCATION:Bowl and Arrow\, 228 Orakei Road\, Auckland\, New Zealand
END:VEVENT
END:VCALENDAR
