BEGIN:VCALENDAR
VERSION:2.0
PRODID:-//Squarespace Inc/Squarespace 6//v6//EN
BEGIN:VEVENT
UID:5ac56f806d2a739bdd361a50@squarespace.com
DTSTAMP:20180405T003946Z
DTSTART:20180412T173000Z
DTEND:20180412T181500Z
SUMMARY:Detox & Tone
GEO:-36.86328;174.810188
LOCATION:Bowl and Arrow\, 228 Orakei Road\, Auckland\, Auckland\, 1071\, Ne
 w Zealand
END:VEVENT
END:VCALENDAR
