BEGIN:VCALENDAR
VERSION:2.0
PRODID:-//Squarespace Inc/Squarespace 6//v6//EN
BEGIN:VEVENT
UID:5c772197652dea51122e9a66@squarespace.com
DTSTAMP:20190227T235406Z
DTSTART:20190405T191500Z
DTEND:20190407T031500Z
SUMMARY:Go Green Expo
GEO:-36.89363;174.774333
LOCATION:ASB Showgrounds\, Epsom\, Auckland\, New Zealand
END:VEVENT
END:VCALENDAR
