BEGIN:VCALENDAR
VERSION:2.0
PRODID:-//Squarespace Inc/Squarespace 6//v6//EN
BEGIN:VEVENT
UID:5c772069e79c7096626ade1a@squarespace.com
DTSTAMP:20190227T234705Z
DTSTART:20190306T163000Z
DTEND:20190306T173000Z
SUMMARY:Come and Celebrate with a Flow for Intl. Womens Day
GEO:-36.86328;174.810188
LOCATION:Bowl and Arrow\, 228 Orakei Road\, Auckland\, New Zealand
END:VEVENT
END:VCALENDAR
