BEGIN:VCALENDAR
VERSION:2.0
PRODID:-//Squarespace Inc/Squarespace 6//v6//EN
BEGIN:VEVENT
UID:590a661e3e00bea9500f4c12@squarespace.com
DTSTAMP:20170503T232624Z
DTSTART:20170511T171500Z
DTEND:20170511T181500Z
SUMMARY:Pink Ribbon Yoga Breakfast
GEO:-36.86328;174.810188
LOCATION:Bowl and Arrow\, 228 Orakei Road\, Auckland\, Auckland\, 1071\, Ne
 w Zealand
END:VEVENT
END:VCALENDAR
