BEGIN:VCALENDAR
VERSION:2.0
PRODID:-//Squarespace Inc/Squarespace 6//v6//EN
BEGIN:VEVENT
UID:5a13ce0ff9619a97a13429af@squarespace.com
DTSTAMP:20171121T065918Z
DTSTART:20171123T163000Z
DTEND:20171123T171500Z
SUMMARY:Strength & Tone with Yoga Stereo
GEO:-36.86328;174.810188
LOCATION:Bowl and Arrow\, 228 Orakei Road\, Auckland\, Auckland\, 1071\, Ne
 w Zealand
END:VEVENT
END:VCALENDAR
